BEGIN:VCALENDAR
VERSION:2.0
PRODID:-//eventon.com NONSGML v1.0//EN
BEGIN:VEVENT
UID:69eab83653af0
DTSTAMP:20260423T172422
DTSTART:20190915T180000Z
DTEND:20190916T065000Z
LOCATION:Encore BeachClub 3131 S Las Vegas Blvd\,  Las Vegas\,  NV 89109
SUMMARY:Encore BeachClub (DayClub) 9/15/19
DESCRIPTION: CHAINSMOKERS Guest List Time & Details…  ARRIVAL 11-2PM LaDies free Guys pay reduced cover until 12AM (They do not tell us what reduced cover is) LOOKING TO BOOK A DAYBED OR CABANA? CONTACT CJ DIRECT @ 7027084409
END:VEVENT
END:VCALENDAR