BEGIN:VCALENDAR
VERSION:2.0
PRODID:-//eventon.com NONSGML v1.0//EN
BEGIN:VEVENT
UID:69eaee956b660
DTSTAMP:20260423T211621
DTSTART:20190915T180000Z
DTEND:20190915T180000Z
LOCATION:Marquee NightClub 3708 S Las Vegas Blvd\,  Las Vegas\,  NV 89109
SUMMARY:Marquee DayClub 9-15-19 (FREE DRINK SPECIAL FOR LADIES)
DESCRIPTION: DJ... CAMELPHAT (EVERYTHING) Guest List Time & Details…  ARRIVAL 11-3PM LaDies free Guys free 1:1 ratio LADIES OPEN BAR 1-2PM BOTTLE SERVICE? TXT CJ @ 7027084409
END:VEVENT
END:VCALENDAR