BEGIN:VCALENDAR
VERSION:2.0
PRODID:-//eventon.com NONSGML v1.0//EN
BEGIN:VEVENT
UID:69eb280bdc8f9
DTSTAMP:20260424T012131
DTSTART:20190914T180000Z
DTEND:20190915T065000Z
LOCATION:Tao Beach Club 3377 S Las Vegas Blvd\,  Las Vegas\,  NV 89109
SUMMARY:TAO BeachClub (DayClub) 9/14/19 (FREE DRINK SPECIAL FOR LADIES)
DESCRIPTION: DJ JUSTIN CREDIBLE Guest List Time & Details…  ARRIVAL 11-3PM LaDies free Guys free 1:1 ratio LADIES open bar 1-2pm  LOOKING TO BOOK A DAYBED OR CABANA? CONTACT CJ DIRECT @ 7027084409
END:VEVENT
END:VCALENDAR