BEGIN:VCALENDAR
VERSION:2.0
PRODID:-//eventon.com NONSGML v1.0//EN
BEGIN:VEVENT
UID:69eb88ed17568
DTSTAMP:20260424T081453
DTSTART:20190914T170000Z
DTEND:20190915T065000Z
LOCATION:GoPool 3555 S Las Vegas Blvd\,  Las Vegas\,  NV 89109
SUMMARY:GoPool Las Vegas (DayClub) 9/14/19
DESCRIPTION: GO POOL… DJ EXODUS (EVERYTHING) Guest List Time & Details…  ARRIVAL 10-2PM LaDies free Guys free 1:1 ratio LADIES GET A FREE DRINK I RECOMMEND HIGHLY STARTING HERE ONE DAY OR EVERY DAY ON THE FORM YOU’LL BE ABLE TO PICK THIS AS A PREGAME THEN DOING THE MAJOR POOL[..]
END:VEVENT
END:VCALENDAR