BEGIN:VCALENDAR
VERSION:2.0
PRODID:-//eventon.com NONSGML v1.0//EN
BEGIN:VEVENT
UID:69ed953b32681
DTSTAMP:20260425T213155
DTSTART:20190914T070000Z
DTEND:20190915T065900Z
LOCATION:Larry Flynt Hustler Club 6007 Dean Martin Dr
SUMMARY:Hustler (Male & Female Dancers)
DESCRIPTION: Top Las Vegas Strip Club &nbsp; $40 per person 2 Drinks Included Free Limo Ride There & Back! Pick up is from anywhere on LV Strip + Fremont ST
END:VEVENT
END:VCALENDAR