BEGIN:VCALENDAR
VERSION:2.0
PRODID:-//eventon.com NONSGML v1.0//EN
BEGIN:VEVENT
UID:69ebf2434eec1
DTSTAMP:20260424T154419
DTSTART:20190906T180000Z
DTEND:20190906T180000Z
LOCATION:Marquee NightClub 3708 S Las Vegas Blvd\,  Las Vegas\,  NV 89109
SUMMARY:Marquee DayClub
DESCRIPTION: CLICK HERE FOR BOTTLE SERVICE  &nbsp; Marquee… DJ CEDRIC GERVAIS (EVERYTHING) Guest List Time & Details…  ARRIVAL 11-3PM LaDies free Guys free 1:1 ratio LADIES OPEN BAR 1-2PM BOTTLE SERVICE? TXT CJ @ 7027084409
END:VEVENT
END:VCALENDAR