BEGIN:VCALENDAR
VERSION:2.0
PRODID:-//eventon.com NONSGML v1.0//EN
BEGIN:VEVENT
UID:69ec079dbd108
DTSTAMP:20260424T171525
DTSTART:20190907T053000Z
DTEND:20190907T053000Z
LOCATION:Marquee NightClub 3708 S Las Vegas Blvd\,  Las Vegas\,  NV 89109
SUMMARY:Marquee NightClub
DESCRIPTION: CLICK HERE FOR BOTTLE SERVICE  &nbsp; Marquee… DJ MUSTARD (EVERYTHING)   Guest List Time & Details…  Arrival 10pm-1am LADIES Open bar is from 11:30-12:30Am  Ladies free Guys pay $10 off cover **PREGAME AT BEAUTY AND ESSEX FOR FREE CHAMPAGNE OPEN BAR 10-11PM** &nbsp; BOTTLE SERVICE? TXT CJ @ 7027084409
END:VEVENT
END:VCALENDAR